BEGIN:VCALENDAR
VERSION:2.0
PRODID:-//Moray Figure Skating Club - ECPv5.14.1//NONSGML v1.0//EN
CALSCALE:GREGORIAN
METHOD:PUBLISH
X-WR-CALNAME:Moray Figure Skating Club
X-ORIGINAL-URL:http://www.morayfigureskatingclub.co.uk
X-WR-CALDESC:Events for Moray Figure Skating Club
BEGIN:VTIMEZONE
TZID:UTC
BEGIN:STANDARD
TZOFFSETFROM:+0000
TZOFFSETTO:+0000
TZNAME:UTC
DTSTART:20170101T000000
END:STANDARD
END:VTIMEZONE
BEGIN:VEVENT
DTSTART;TZID=UTC:20171216T141500
DTEND;TZID=UTC:20171216T161500
DTSTAMP:20260420T111228
CREATED:20170130T162249Z
LAST-MODIFIED:20171113T104603Z
UID:168-1513433700-1513440900@www.morayfigureskatingclub.co.uk
SUMMARY:Christmas Gala 16th December
DESCRIPTION:
URL:http://www.morayfigureskatingclub.co.uk/event/christmas-gala-16th-december/
LOCATION:Moray Leisure Centre\, Borough Briggs Road\, Elgin\, Moray\, IV30 1AP\, United Kingdom
CATEGORIES:Events
ATTACH;FMTTYPE=image/jpeg:http://www.morayfigureskatingclub.co.uk/wp-content/uploads/2017/01/Poster.jpeg
END:VEVENT
END:VCALENDAR