BEGIN:VCALENDAR
VERSION:2.0
PRODID:-//Moray Figure Skating Club - ECPv5.14.1//NONSGML v1.0//EN
CALSCALE:GREGORIAN
METHOD:PUBLISH
X-WR-CALNAME:Moray Figure Skating Club
X-ORIGINAL-URL:http://www.morayfigureskatingclub.co.uk
X-WR-CALDESC:Events for Moray Figure Skating Club
BEGIN:VTIMEZONE
TZID:UTC
BEGIN:STANDARD
TZOFFSETFROM:+0000
TZOFFSETTO:+0000
TZNAME:UTC
DTSTART:20210101T000000
END:STANDARD
END:VTIMEZONE
BEGIN:VEVENT
DTSTART;TZID=UTC:20211217T180000
DTEND;TZID=UTC:20211217T210000
DTSTAMP:20260419T131131
CREATED:20211130T101604Z
LAST-MODIFIED:20211130T101604Z
UID:944-1639764000-1639774800@www.morayfigureskatingclub.co.uk
SUMMARY:Christmas Gala - Friday
DESCRIPTION:Doors open 5.30
URL:http://www.morayfigureskatingclub.co.uk/event/christmas-gala-friday/
LOCATION:Moray Leisure Centre\, Borough Briggs Road\, Elgin\, Moray\, IV30 1AP\, United Kingdom
CATEGORIES:Events
ATTACH;FMTTYPE=image/png:http://www.morayfigureskatingclub.co.uk/wp-content/uploads/2021/11/GALA-square.png
END:VEVENT
END:VCALENDAR