BEGIN:VCALENDAR
VERSION:2.0
PRODID:-//Moray Figure Skating Club - ECPv5.14.1//NONSGML v1.0//EN
CALSCALE:GREGORIAN
METHOD:PUBLISH
X-WR-CALNAME:Moray Figure Skating Club
X-ORIGINAL-URL:http://www.morayfigureskatingclub.co.uk
X-WR-CALDESC:Events for Moray Figure Skating Club
BEGIN:VTIMEZONE
TZID:UTC
BEGIN:STANDARD
TZOFFSETFROM:+0000
TZOFFSETTO:+0000
TZNAME:UTC
DTSTART:20180101T000000
END:STANDARD
END:VTIMEZONE
BEGIN:VEVENT
DTSTART;TZID=UTC:20181222T141500
DTEND;TZID=UTC:20181222T170000
DTSTAMP:20260423T110831
CREATED:20180829T073928Z
LAST-MODIFIED:20180829T073928Z
UID:764-1545488100-1545498000@www.morayfigureskatingclub.co.uk
SUMMARY:Christmas Gala Saturday Afternoon
DESCRIPTION:Friday 6pm\nSaturday 2:15pm\nBoth to be confirmed
URL:http://www.morayfigureskatingclub.co.uk/event/christmas-gala-saturday-afternoon/
LOCATION:Moray Leisure Centre\, Borough Briggs Road\, Elgin\, Moray\, IV30 1AP\, United Kingdom
CATEGORIES:Events
ATTACH;FMTTYPE=image/jpeg:http://www.morayfigureskatingclub.co.uk/wp-content/uploads/2017/01/16177805_930786907057169_4630589335185208182_o1.jpg
END:VEVENT
END:VCALENDAR