BEGIN:VCALENDAR
VERSION:2.0
PRODID:-//Moray Figure Skating Club - ECPv5.14.1//NONSGML v1.0//EN
CALSCALE:GREGORIAN
METHOD:PUBLISH
X-WR-CALNAME:Moray Figure Skating Club
X-ORIGINAL-URL:http://www.morayfigureskatingclub.co.uk
X-WR-CALDESC:Events for Moray Figure Skating Club
BEGIN:VTIMEZONE
TZID:UTC
BEGIN:STANDARD
TZOFFSETFROM:+0000
TZOFFSETTO:+0000
TZNAME:UTC
DTSTART:20170101T000000
END:STANDARD
END:VTIMEZONE
BEGIN:VEVENT
DTSTART;TZID=UTC:20170909T093000
DTEND;TZID=UTC:20170909T113000
DTSTAMP:20260422T103323
CREATED:20170823T085805Z
LAST-MODIFIED:20170823T085805Z
UID:466-1504949400-1504956600@www.morayfigureskatingclub.co.uk
SUMMARY:Coffee Morning
DESCRIPTION:
URL:http://www.morayfigureskatingclub.co.uk/event/coffee-morning/
LOCATION:North Church Hall\, Cluny Square\, Buckie\, Moray\, AB56 1EX\, United Kingdom
CATEGORIES:Events
END:VEVENT
END:VCALENDAR