BEGIN:VCALENDAR
VERSION:2.0
PRODID:-//Moray Figure Skating Club - ECPv5.14.1//NONSGML v1.0//EN
CALSCALE:GREGORIAN
METHOD:PUBLISH
X-WR-CALNAME:Moray Figure Skating Club
X-ORIGINAL-URL:http://www.morayfigureskatingclub.co.uk
X-WR-CALDESC:Events for Moray Figure Skating Club
BEGIN:VTIMEZONE
TZID:UTC
BEGIN:STANDARD
TZOFFSETFROM:+0000
TZOFFSETTO:+0000
TZNAME:UTC
DTSTART:20180101T000000
END:STANDARD
END:VTIMEZONE
BEGIN:VEVENT
DTSTART;TZID=UTC:20180827T080000
DTEND;TZID=UTC:20180929T170000
DTSTAMP:20260421T130513
CREATED:20180820T072045Z
LAST-MODIFIED:20180829T073432Z
UID:711-1535356800-1538240400@www.morayfigureskatingclub.co.uk
SUMMARY:Maintenance Shutdown
DESCRIPTION:
URL:http://www.morayfigureskatingclub.co.uk/event/maintenanace-shutdown/
LOCATION:Moray Leisure Centre\, Borough Briggs Road\, Elgin\, Moray\, IV30 1AP\, United Kingdom
CATEGORIES:Skating Sessions
ATTACH;FMTTYPE=image/png:http://www.morayfigureskatingclub.co.uk/wp-content/uploads/2017/03/MFSC_Final-02.png
END:VEVENT
END:VCALENDAR