BEGIN:VCALENDAR
VERSION:2.0
PRODID:-//Moray Figure Skating Club - ECPv5.14.1//NONSGML v1.0//EN
CALSCALE:GREGORIAN
METHOD:PUBLISH
X-WR-CALNAME:Moray Figure Skating Club
X-ORIGINAL-URL:http://www.morayfigureskatingclub.co.uk
X-WR-CALDESC:Events for Moray Figure Skating Club
BEGIN:VTIMEZONE
TZID:UTC
BEGIN:STANDARD
TZOFFSETFROM:+0000
TZOFFSETTO:+0000
TZNAME:UTC
DTSTART:20180101T000000
END:STANDARD
END:VTIMEZONE
BEGIN:VEVENT
DTSTART;TZID=UTC:20180521T193000
DTEND;TZID=UTC:20180521T210000
DTSTAMP:20260423T104942
CREATED:20180423T082922Z
LAST-MODIFIED:20180423T082922Z
UID:660-1526931000-1526936400@www.morayfigureskatingclub.co.uk
SUMMARY:MFSC AGM
DESCRIPTION:Notice is hereby given that the Moray Figure Skating Club (MFSC) Annual General Meeting (AGM) will take place at 7:30pm on Mon 21 May 2018.  The venue is the Bishopmill Hall\, Grove Place\, Elgin\, IV304DH.  Any agenda items must be forwarded to the club secretary no later than 2 weeks prior to this date. Email address: secretary@morayfigureskatingclub.co.uk
URL:http://www.morayfigureskatingclub.co.uk/event/mfsc-agm/
LOCATION:Bishopmill Hall\, Grove Place\, Elgin\, Moray\,  IV304DH\, United Kingdom
CATEGORIES:Events
ATTACH;FMTTYPE=image/png:http://www.morayfigureskatingclub.co.uk/wp-content/uploads/2017/03/MFSC_Final-02.png
END:VEVENT
END:VCALENDAR