BEGIN:VCALENDAR
VERSION:2.0
PRODID:-//Moray Figure Skating Club - ECPv5.14.1//NONSGML v1.0//EN
CALSCALE:GREGORIAN
METHOD:PUBLISH
X-WR-CALNAME:Moray Figure Skating Club
X-ORIGINAL-URL:http://www.morayfigureskatingclub.co.uk
X-WR-CALDESC:Events for Moray Figure Skating Club
BEGIN:VTIMEZONE
TZID:UTC
BEGIN:STANDARD
TZOFFSETFROM:+0000
TZOFFSETTO:+0000
TZNAME:UTC
DTSTART:20180101T000000
END:STANDARD
END:VTIMEZONE
BEGIN:VEVENT
DTSTART;TZID=UTC:20180616T104500
DTEND;TZID=UTC:20180616T140000
DTSTAMP:20260423T100300
CREATED:20180423T212622Z
LAST-MODIFIED:20180423T212814Z
UID:665-1529145900-1529157600@www.morayfigureskatingclub.co.uk
SUMMARY:MFSC Ice Skating Competition
DESCRIPTION:REGISTRATION OPEN NOW
URL:http://www.morayfigureskatingclub.co.uk/event/mfsc-ice-skating-competition/
LOCATION:Moray Leisure Centre\, Borough Briggs Road\, Elgin\, Moray\, IV30 1AP\, United Kingdom
CATEGORIES:Club Competitions
ATTACH;FMTTYPE=image/png:http://www.morayfigureskatingclub.co.uk/wp-content/uploads/2017/02/MFSClogo.png
END:VEVENT
END:VCALENDAR