BEGIN:VCALENDAR
VERSION:2.0
PRODID:-//Moray Figure Skating Club - ECPv5.14.1//NONSGML v1.0//EN
CALSCALE:GREGORIAN
METHOD:PUBLISH
X-WR-CALNAME:Moray Figure Skating Club
X-ORIGINAL-URL:http://www.morayfigureskatingclub.co.uk
X-WR-CALDESC:Events for Moray Figure Skating Club
BEGIN:VTIMEZONE
TZID:UTC
BEGIN:STANDARD
TZOFFSETFROM:+0000
TZOFFSETTO:+0000
TZNAME:UTC
DTSTART:20170101T000000
END:STANDARD
END:VTIMEZONE
BEGIN:VEVENT
DTSTART;VALUE=DATE:20171020
DTEND;VALUE=DATE:20171023
DTSTAMP:20260420T125638
CREATED:20170307T123127Z
LAST-MODIFIED:20170309T141719Z
UID:291-1508457600-1508716799@www.morayfigureskatingclub.co.uk
SUMMARY:NISA Competition - Aberdeen Open
DESCRIPTION:
URL:http://www.morayfigureskatingclub.co.uk/event/nisa-competition-aberdeen-open/
LOCATION:Lynx Ice Rink\, Esplanade\, Aberdeen\, Aberdeen\, AB24 5NR\, United Kingdom
CATEGORIES:Competitions
ATTACH;FMTTYPE=image/jpeg:http://www.morayfigureskatingclub.co.uk/wp-content/uploads/2017/03/nisalogo.jpg
END:VEVENT
END:VCALENDAR