BEGIN:VCALENDAR
VERSION:2.0
PRODID:-//Moray Figure Skating Club - ECPv5.14.1//NONSGML v1.0//EN
CALSCALE:GREGORIAN
METHOD:PUBLISH
X-WR-CALNAME:Moray Figure Skating Club
X-ORIGINAL-URL:http://www.morayfigureskatingclub.co.uk
X-WR-CALDESC:Events for Moray Figure Skating Club
BEGIN:VTIMEZONE
TZID:UTC
BEGIN:STANDARD
TZOFFSETFROM:+0000
TZOFFSETTO:+0000
TZNAME:UTC
DTSTART:20210101T000000
END:STANDARD
END:VTIMEZONE
BEGIN:VEVENT
DTSTART;TZID=UTC:20210928T200000
DTEND;TZID=UTC:20210928T210000
DTSTAMP:20260421T130604
CREATED:20210903T072416Z
LAST-MODIFIED:20210903T072416Z
UID:921-1632859200-1632862800@www.morayfigureskatingclub.co.uk
SUMMARY:Special General Meeting
DESCRIPTION:All members are invited to a Special General Meeting (Tuesday 28th September 2021 at 8pm by Zoom https://us06web.zoom.us/j/84891167674) to agree the proposal put forward by the Committee: that individual membership fees be reduced from £40 to £20 per year\, and that family memberships will not be available.
URL:http://www.morayfigureskatingclub.co.uk/event/special-general-meeting-3/
CATEGORIES:Meetings
END:VEVENT
END:VCALENDAR